BEGIN:VCALENDAR
VERSION:2.0
PRODID:-//Carefor - ECPv6.15.18//NONSGML v1.0//EN
CALSCALE:GREGORIAN
METHOD:PUBLISH
X-WR-CALNAME:Carefor
X-ORIGINAL-URL:https://carefor.ca
X-WR-CALDESC:Events for Carefor
REFRESH-INTERVAL;VALUE=DURATION:PT1H
X-Robots-Tag:noindex
X-PUBLISHED-TTL:PT1H
BEGIN:VTIMEZONE
TZID:America/Toronto
BEGIN:DAYLIGHT
TZOFFSETFROM:-0500
TZOFFSETTO:-0400
TZNAME:EDT
DTSTART:20250309T070000
END:DAYLIGHT
BEGIN:STANDARD
TZOFFSETFROM:-0400
TZOFFSETTO:-0500
TZNAME:EST
DTSTART:20251102T060000
END:STANDARD
BEGIN:DAYLIGHT
TZOFFSETFROM:-0500
TZOFFSETTO:-0400
TZNAME:EDT
DTSTART:20260308T070000
END:DAYLIGHT
BEGIN:STANDARD
TZOFFSETFROM:-0400
TZOFFSETTO:-0500
TZNAME:EST
DTSTART:20261101T060000
END:STANDARD
BEGIN:DAYLIGHT
TZOFFSETFROM:-0500
TZOFFSETTO:-0400
TZNAME:EDT
DTSTART:20270314T070000
END:DAYLIGHT
BEGIN:STANDARD
TZOFFSETFROM:-0400
TZOFFSETTO:-0500
TZNAME:EST
DTSTART:20271107T060000
END:STANDARD
END:VTIMEZONE
BEGIN:VEVENT
DTSTART;TZID=America/Toronto:20260407T140000
DTEND;TZID=America/Toronto:20260407T153000
DTSTAMP:20260422T083808
CREATED:20260203T181618Z
LAST-MODIFIED:20260203T210327Z
UID:10778-1775570400-1775575800@carefor.ca
SUMMARY:Income Tax Reduction & Estate Tax Elimination
DESCRIPTION:Join us for an exclusive presentation\n\nDATE: Tuesday\, April 7\, 2026 \nTIME: Registration: 2:00 p.m.| Presentation Start: 2:30 p.m. \nLOCATION: Carefor Main Office \n760 Belfast Rd.\, Ottawa ON   K1G 6M8 \n  \nSeats are COMPLIMENTARY\, but limited.\nContact Melissa at Carefor\, at 613-618-0961 or\nRSVP to info@carefor.ca and reserve your spot today! \nIf timing of this session does not work with your schedule\, we have another session April 22 in Winchester. \n\n\n\n\n\nhttps://carefor.ca/wp-content/uploads/2024/08/DMP-Video-small-1.mp4\n\n\n\nYou Will Learn How: \n\nTo minimize or even Eliminate Taxes on your estate.\nHow to Change your Estate Plans in this virtual environment.\nTo Avoid Double Taxation on your “Red” retirement accounts.\nTo Bypass paying upfront Capital Gains Taxes when selling your investments.\nTo convert assets into an Income You Can’t Outlive and leave a Lasting Legacy.\nHow our government wants you to Save Taxes and Leave More To Charity.\n\n \n  \n \n\nABOUT THE SPEAKER\nFor over 22 years Erin Meisner has been guiding and educating individuals\, families and business owners on their health needs\, retirement and financial affairs. Her expertise includes developing strategic plans for the families she works with to help them grow and preserve their wealth while also redirecting their tax dollars from the Canada Revenue Agency to causes that are deeply meaningful to them. \n\nWith an early background in health care services\, Erin’s unique mix of expertise and ongoing education makes her a strong resource for those who wish to establish their legacy through charitable giving. She holds post graduate certificates in the areas of Elder Planning Counselor®️\, Certified Health Insurance Specialist™️\, and Master Financial Adviser – Philanthropy (MFA-P™️) and is also in the process of completing her Certified Financial Planner (CFP®️) designation.  \n\nErin has been featured on CTV Ottawa News for her volunteer work with the Junior Diabetes Research Foundation and is the proud past recipient of the Mayor’s Award for Youth Volunteerism from the City of Kingston. In 2023\, Erin was also awarded the Women in Capital Markets Emerging Leaders Award and currently serves on the board of the Ottawa Chapter of the Canadian Association of Gift Planners.  \nErin is the proud mom of two amazing boys\, Jude and Jakob\, and three Airedale/Giant Schnauzer pups\, who keep her on her toes. She lives just outside of the city of Ottawa in the beautiful small town of Merrickville but\, you won’t often find her there as she and her husband\, Ted\, are happily either rink side or diamond side most evenings and weekends! \n \n\n\n\n 
URL:https://carefor.ca/event/income-tax-reduction-estate-tax-elimination-3-2/
ATTACH;FMTTYPE=image/jpeg:https://carefor.ca/wp-content/uploads/2026/01/AdobeStock_232629680-scaled.jpeg
END:VEVENT
BEGIN:VEVENT
DTSTART;TZID=America/Toronto:20260422T140000
DTEND;TZID=America/Toronto:20260422T153000
DTSTAMP:20260422T083808
CREATED:20260128T193427Z
LAST-MODIFIED:20260211T144452Z
UID:10721-1776866400-1776871800@carefor.ca
SUMMARY:Income Tax Reduction & Estate Tax Elimination - Winchester
DESCRIPTION:Join us for an exclusive presentation\n\nDATE: Wednesday\, April 22\, 2026 \nTIME: Registration: 2:00 p.m.| Presentation Start: 2:30 p.m. \nLOCATION: St. Mathew’s Church \n1509 Second Street West; Cornwall\, ON; K6J 1J3 \n  \nSeats are COMPLIMENTARY\, but limited. \nContact Rhonda Simpson\, at 833-922-2734 Ext. 4227 or\nemail your response rsimpson@carefor.ca and reserve your spot today! \n\n\n\n\n\nhttps://carefor.ca/wp-content/uploads/2024/08/DMP-Video-small-1.mp4\n\n\n\nYou Will Learn How: \n\nTo minimize or even Eliminate Taxes on your estate.\nHow to Change your Estate Plans in this virtual environment.\nTo Avoid Double Taxation on your “Red” retirement accounts.\nTo Bypass paying upfront Capital Gains Taxes when selling your investments.\nTo convert assets into an Income You Can’t Outlive and leave a Lasting Legacy.\nHow our government wants you to Save Taxes and Leave More To Charity.\n\n \n  \n \n\nABOUT THE SPEAKER\nFor over 22 years Erin Meisner has been guiding and educating individuals\, families and business owners on their health needs\, retirement and financial affairs. Her expertise includes developing strategic plans for the families she works with to help them grow and preserve their wealth while also redirecting their tax dollars from the Canada Revenue Agency to causes that are deeply meaningful to them. \n\nWith an early background in health care services\, Erin’s unique mix of expertise and ongoing education makes her a strong resource for those who wish to establish their legacy through charitable giving. She holds post graduate certificates in the areas of Elder Planning Counselor®️\, Certified Health Insurance Specialist™️\, and Master Financial Adviser – Philanthropy (MFA-P™️) and is also in the process of completing her Certified Financial Planner (CFP®️) designation.  \n\nErin has been featured on CTV Ottawa News for her volunteer work with the Junior Diabetes Research Foundation and is the proud past recipient of the Mayor’s Award for Youth Volunteerism from the City of Kingston. In 2023\, Erin was also awarded the Women in Capital Markets Emerging Leaders Award and currently serves on the board of the Ottawa Chapter of the Canadian Association of Gift Planners.  \nErin is the proud mom of two amazing boys\, Jude and Jakob\, and three Airedale/Giant Schnauzer pups\, who keep her on her toes. She lives just outside of the city of Ottawa in the beautiful small town of Merrickville but\, you won’t often find her there as she and her husband\, Ted\, are happily either rink side or diamond side most evenings and weekends! \n \n\n\n\n 
URL:https://carefor.ca/event/income-tax-reduction-estate-tax-elimination-winchester-2/
ATTACH;FMTTYPE=image/jpeg:https://carefor.ca/wp-content/uploads/2026/01/AdobeStock_232629680-scaled.jpeg
END:VEVENT
BEGIN:VEVENT
DTSTART;TZID=America/Toronto:20260503T123000
DTEND;TZID=America/Toronto:20260503T150000
DTSTAMP:20260422T083808
CREATED:20260217T192017Z
LAST-MODIFIED:20260409T155023Z
UID:10831-1777811400-1777820400@carefor.ca
SUMMARY:Hike for Hospice
DESCRIPTION:
URL:https://carefor.ca/event/hike-for-hospice/
LOCATION:Hospice Cornwall\, 1507 Second St. West\, Cornwall\, Ontario\, K6J 1J5\, Canada
ATTACH;FMTTYPE=image/png:https://carefor.ca/wp-content/uploads/2026/02/Carefor-Website-Image-hike-with-Sponsors.png
ORGANIZER;CN="Carefor Hospice Cornwall":MAILTO:info@carefor.ca
END:VEVENT
BEGIN:VEVENT
DTSTART;TZID=America/Toronto:20260606T110000
DTEND;TZID=America/Toronto:20260606T130000
DTSTAMP:20260422T083808
CREATED:20260330T185508Z
LAST-MODIFIED:20260417T203519Z
UID:10986-1780743600-1780750800@carefor.ca
SUMMARY:Show & Shine
DESCRIPTION:Saturday\, June 6 2026 | 11:00 a.m. – 1:00 p.m.\nCarefor Civic Complex (425 Cecelia St.\, Pembroke\, ON)\n BBQ: For a donation (all proceeds go to Carefor). \n\n\n\n\n\n\n\n\n\nEnjoy mouthwatering BBQ and more!\nPeople’s Choice Award (vote on your favourite entry)\n\n\n\n\n\n\n\n\n\nCar Entry: By registration (includes a free BBQ voucher). \nFor more information and/or to register your vehicles contact Wendy at (833) 922-2734 X 2298 or wknechtel@carefor.ca
URL:https://carefor.ca/event/show-shine-2026/
LOCATION:Carefor Civic Complex\, 425 Cecelia Street\, Pembroke\, ON\, K8A 1S7\, Canada
ATTACH;FMTTYPE=image/png:https://carefor.ca/wp-content/uploads/2026/03/Website-Event-Image.png
END:VEVENT
BEGIN:VEVENT
DTSTART;VALUE=DATE:20260808
DTEND;VALUE=DATE:20260809
DTSTAMP:20260422T083808
CREATED:20260225T163621Z
LAST-MODIFIED:20260225T163826Z
UID:10868-1786147200-1786233599@carefor.ca
SUMMARY:9th Annual Ride for Hospice
DESCRIPTION:
URL:https://carefor.ca/event/9th-annual-ride-for-hospice/
ATTACH;FMTTYPE=image/jpeg:https://carefor.ca/wp-content/uploads/2026/02/622748323_864259012906611_3035446642725043123_n.jpg
END:VEVENT
END:VCALENDAR