BEGIN:VCALENDAR
VERSION:2.0
PRODID:-//Carefor - ECPv6.15.18//NONSGML v1.0//EN
CALSCALE:GREGORIAN
METHOD:PUBLISH
X-ORIGINAL-URL:https://carefor.ca
X-WR-CALDESC:Events for Carefor
REFRESH-INTERVAL;VALUE=DURATION:PT1H
X-Robots-Tag:noindex
X-PUBLISHED-TTL:PT1H
BEGIN:VTIMEZONE
TZID:America/Toronto
BEGIN:DAYLIGHT
TZOFFSETFROM:-0500
TZOFFSETTO:-0400
TZNAME:EDT
DTSTART:20240310T070000
END:DAYLIGHT
BEGIN:STANDARD
TZOFFSETFROM:-0400
TZOFFSETTO:-0500
TZNAME:EST
DTSTART:20241103T060000
END:STANDARD
BEGIN:DAYLIGHT
TZOFFSETFROM:-0500
TZOFFSETTO:-0400
TZNAME:EDT
DTSTART:20250309T070000
END:DAYLIGHT
BEGIN:STANDARD
TZOFFSETFROM:-0400
TZOFFSETTO:-0500
TZNAME:EST
DTSTART:20251102T060000
END:STANDARD
BEGIN:DAYLIGHT
TZOFFSETFROM:-0500
TZOFFSETTO:-0400
TZNAME:EDT
DTSTART:20260308T070000
END:DAYLIGHT
BEGIN:STANDARD
TZOFFSETFROM:-0400
TZOFFSETTO:-0500
TZNAME:EST
DTSTART:20261101T060000
END:STANDARD
END:VTIMEZONE
BEGIN:VEVENT
DTSTART;TZID=America/Toronto:20250504T123000
DTEND;TZID=America/Toronto:20250504T163000
DTSTAMP:20260422T051557
CREATED:20250226T170110Z
LAST-MODIFIED:20250407T192520Z
UID:9232-1746361800-1746376200@carefor.ca
SUMMARY:Hike for Hospice 2025
DESCRIPTION:We hope you will join us at Carefor Hospice Cornwall on Sunday\, May 4th to Hike for Carefor Hospice Cornwall!
URL:https://carefor.ca/event/hike2025/
LOCATION:Hospice Cornwall\, 1507 Second St. West\, Cornwall\, Ontario\, K6J 1J5\, Canada
ATTACH;FMTTYPE=image/png:https://carefor.ca/wp-content/uploads/2025/02/Banner-Image-hike.png
ORGANIZER;CN="Carefor Hospice Cornwall":MAILTO:info@carefor.ca
END:VEVENT
END:VCALENDAR